BEGIN:VCALENDAR
VERSION:2.0
PRODID:-//המכון הישראלי למדיניות טכנולוגיה - ECPv5.2.1.1//NONSGML v1.0//EN
CALSCALE:GREGORIAN
METHOD:PUBLISH
X-WR-CALNAME:המכון הישראלי למדיניות טכנולוגיה
X-ORIGINAL-URL:https://techpolicy.org.il/he
X-WR-CALDESC:Events for המכון הישראלי למדיניות טכנולוגיה
BEGIN:VTIMEZONE
TZID:UTC
BEGIN:STANDARD
TZOFFSETFROM:+0000
TZOFFSETTO:+0000
TZNAME:UTC
DTSTART:20230101T000000
END:STANDARD
END:VTIMEZONE
BEGIN:VEVENT
DTSTART;TZID=UTC:20230502T120000
DTEND;TZID=UTC:20230502T130000
DTSTAMP:20260416T114251
CREATED:20230424T045820Z
LAST-MODIFIED:20230504T121436Z
UID:5075-1683028800-1683032400@techpolicy.org.il
SUMMARY:עמידה על הזכות לפרטיות: מה ניתן ללמוד מעשור של הליכים אזרחיים בתחום הפרטיות
DESCRIPTION:ב 2 במאי קיים המכון הישראלי למדיניות טכנולוגיה וובינר בנושא: עמידה על הזכות לפרטיות: מה ניתן ללמוד מעשור של הליכים אזרחיים בתחום הפרטיות בהנחיית: עו”ד נועה דיאמונד מהפקולטה למשפטים באוניברסיטת תל אביב \nדוברי הפאנל היו: \nעו“ד רבקי דב“ש\, עמיתה בכירה\, המכון הישראלי למדיניות טכנולוגיה  \nפרופ‘ מיכאל בירנהק\, הפקולטה למשפטים\, אוניברסיטת תל אביב  \nעו“ד אייל שגיא\, פירמת עוה”ד AYR – עמר רייטר ז’אן שוכטוביץ ושות’ \nהוובינר הינו המשך לסקירה: ניתוח פסקי דין בתחום הגנת הפרטיות (2012 – 2022) \nהמכון הישראלי למדיניות טכנולוגיה ביקש לבחון את היקף פסקי הדין בתחום האזרחי בהם נכללה עילה לפי חוק הגנת הפרטיות על מנת לבחון את המידה שבה הציבור הרחב דורש הגנה על זכות זו בערכאות משפטיות. \nמטרתו היתה לבחון מה הם הנושאים המטרידים את הציבור\, עד כדי פנייה לבית המשפט ולאתר דפוסים בעמידה המשפטית על הגנת זכות זו. \nלעיון במצגות של חברי פאנל: \nפרופ’ מיכאל בירנהק \nעו”ד אייל שגיא \nעו”ד רבקי דב”ש \nלצפייה בהקלטה של הוובינר:
URL:https://techpolicy.org.il/he/event/%d7%a2%d7%9e%d7%99%d7%93%d7%94-%d7%a2%d7%9c-%d7%94%d7%96%d7%9b%d7%95%d7%aa-%d7%9c%d7%a4%d7%a8%d7%98%d7%99%d7%95%d7%aa-%d7%9e%d7%94-%d7%a0%d7%99%d7%aa%d7%9f-%d7%9c%d7%9c%d7%9e%d7%95%d7%93-%d7%9e%d7%a2/
LOCATION:Startup Nation Central Hub
ATTACH;FMTTYPE=image/png:https://techpolicy.org.il/wp-content/uploads/2023/04/הזמנה-לוובינר-הנושא-עמידה-על-הזכות-לפרטיות.png
END:VEVENT
END:VCALENDAR