BEGIN:VCALENDAR
VERSION:2.0
PRODID:-//המכון הישראלי למדיניות טכנולוגיה - ECPv5.2.1.1//NONSGML v1.0//EN
CALSCALE:GREGORIAN
METHOD:PUBLISH
X-WR-CALNAME:המכון הישראלי למדיניות טכנולוגיה
X-ORIGINAL-URL:https://techpolicy.org.il
X-WR-CALDESC:Events for המכון הישראלי למדיניות טכנולוגיה
BEGIN:VTIMEZONE
TZID:UTC
BEGIN:STANDARD
TZOFFSETFROM:+0000
TZOFFSETTO:+0000
TZNAME:UTC
DTSTART:20230101T000000
END:STANDARD
END:VTIMEZONE
BEGIN:VEVENT
DTSTART;TZID=UTC:20230627T150000
DTEND;TZID=UTC:20230627T180000
DTSTAMP:20260426T033734
CREATED:20230612T090524Z
LAST-MODIFIED:20230612T090524Z
UID:5147-1687878000-1687888800@techpolicy.org.il
SUMMARY:AI Governance in the Wake of ChatGPT - Policy and Governance
DESCRIPTION:FPF – Israel Tech Policy Institute is thrilled and proud to be partnering with #CyberWeek TLV 2023 once again! \nFuture of Privacy Forum CEO Jules Polonetsky and Senior Fellow and Partner at Goodwin Omer Tene will be moderating the conference: ‘𝐀𝐈 𝐆𝐨𝐯𝐞𝐫𝐧𝐚𝐧𝐜𝐞 𝐢𝐧 𝐭𝐡𝐞 𝐖𝐚𝐤𝐞 𝐨𝐟 𝐂𝐡𝐚𝐭𝐆𝐏𝐓 – 𝐏𝐨𝐥𝐢𝐜𝐲 𝐚𝐧𝐝 𝐆𝐨𝐯𝐞𝐫𝐧𝐚𝐧𝐜𝐞’  on June 27 at 3:30-6pm.\nAcclaimed @Marie-Laure Denis\, President of CNIL – Commission Nationale de l’Informatique et des Libertés will be participating as keynote speaker. \nSpeakers:\nKate Charlet (Google) \n Audrey Plonk (OECD) \nUri Gabai (SNPI) \n@Gilad Semama (PPA)\, \nNiva Elkin-Koren (TAU)\, \nCian O’Brien (Irish Data Protection Commission) \n Elise Houlik (Intuit) \n Shoshana Gillers (TransUnion) \n Chen Bartash-Levanon (INCD). \nDon’t miss this event! \nFor the full agenda and registration click here: https://lnkd.in/e3vTumt7 \nFor the full list of speakers click here: https://bit.ly/3oOtaaW \nLooking forward to seeing you there with us!
URL:https://techpolicy.org.il/event/ai-governance-in-the-wake-of-chatgpt-policy-and-governance/
LOCATION:Tel Aviv University
ATTACH;FMTTYPE=image/bmp:https://techpolicy.org.il/wp-content/uploads/2023/06/ai-governance-in-the-wake-of-chatgpt.bmp
END:VEVENT
END:VCALENDAR