BEGIN:VCALENDAR
VERSION:2.0
PRODID:-//המכון הישראלי למדיניות טכנולוגיה - ECPv5.2.1.1//NONSGML v1.0//EN
CALSCALE:GREGORIAN
METHOD:PUBLISH
X-WR-CALNAME:המכון הישראלי למדיניות טכנולוגיה
X-ORIGINAL-URL:https://techpolicy.org.il
X-WR-CALDESC:Events for המכון הישראלי למדיניות טכנולוגיה
BEGIN:VTIMEZONE
TZID:UTC
BEGIN:STANDARD
TZOFFSETFROM:+0000
TZOFFSETTO:+0000
TZNAME:UTC
DTSTART:20220101T000000
END:STANDARD
END:VTIMEZONE
BEGIN:VEVENT
DTSTART;VALUE=DATE:20220627
DTEND;VALUE=DATE:20220701
DTSTAMP:20260423T000017
CREATED:20220724T091713Z
LAST-MODIFIED:20220724T091713Z
UID:4773-1656288000-1656633599@techpolicy.org.il
SUMMARY:FPF/ITPI Delegation to Cyber Week Tel Aviv 2022
DESCRIPTION:On June 27\, 2022  the Israel Tech Policy Institute and the Future of Privacy Forum hosted a senior delegation of privacy officers from leading companies around the world for the Cyber Week at Tel Aviv University. \nFor the full summary of the week’s events\, you can read here –\nhttps://bit.ly/3yVRlX5 \nFor the recording from the main plenary on ‘Privacy\, Security and Competition – Finding the Right Balance’ moderated by Limor Shmerling Magazanik (Israel Tech Policy Institute) with panellists: Jane Horvath \, Chief Privacy Officer \, Apple\, Inc. @Noah Joshua Phillips \, Commissioner \, Federal Trade Commission and Karolina Mojzesowicz \, Deputy Head of Unit Data Protection \, European Commission examining methods of ensuring competition and innovation while supporting consumer data protection. \nClick here – Panel: Privacy\, Security and Competition: Finding the Right Balance – YouTube \nFor the recording of the conference from Cyber Week on: Data Protection: Predicting and Managing the Path Forward \nClick here – https://lnkd.in/gRx83vj4 \n 
URL:https://techpolicy.org.il/event/fpf-itpi-delegation-to-cyber-week-tel-aviv-2022/
LOCATION:Cyber Week
ATTACH;FMTTYPE=image/jpeg:https://techpolicy.org.il/wp-content/uploads/2022/07/IMG_8181-scaled.jpg
END:VEVENT
BEGIN:VEVENT
DTSTART;TZID=UTC:20220628T093000
DTEND;TZID=UTC:20220628T113000
DTSTAMP:20260423T000017
CREATED:20220629T122004Z
LAST-MODIFIED:20220629T122103Z
UID:4681-1656408600-1656415800@techpolicy.org.il
SUMMARY:US PRIVACY LEGISLATION FOR PRACTITIONERS PARTICIPATED BY LEADING US CPO’S
DESCRIPTION:Summer of Sea Changes: 2022 in U.S. Privacy Legislation and Rulemaking \nThe summer of 2022 may be remembered as the culmination of years of legislative activity\, ballot initiatives\, and activism. In Congress\, bipartisan legislators have finally reached a compromise for a U.S. national privacy law after years of debate – but will it have the momentum to become law? Meanwhile\, data protection laws in five states will soon come into effect\, codifying new consumer rights to access\, delete\, and opt-out of the sale of information. More significant\, however\, are the strides being taken by California and Colorado\, where regulatory agencies are breaking new ground through rulemaking activities that have the power to radically reform commercial data practices. How should practitioners be interpreting the current environment? \nThe discussion was held with privacy professionals on the rapidly changing landscape of U.S. privacy law. \nSpeakers: \n\nStacey Gray\, Director of Legislative Research & Analysis\, Future of Privacy Forum (Speaker/Moderator)\nKara Selke\, Chief Privacy Officer\, StreetLight Data\, Inc.\nJason Sarfati\, Chief Privacy Officer & VP Legal at Gravy Analytics – Real-World Location Intelligence\nSheila Jambekar\, Chief Privacy Officer\, Plaid\nBekah Putz\, Sr. Assistant General Counsel – Privacy\, Chegg\n\nWhen: Tuesday June 28\, 2022 at 9:30-11:30 \nAddress: Amit Pollak Matalon offices\, Raoul Wallenberg St 18\, Building D\, 7th Floor\, Tel Aviv-Yafo. \nPhoto credit – Rafi Frezi \n\n		\n		\n			\n				\n			\n			\n				\n			\n			\n				\n			\n			\n				\n			\n			\n				\n			\n			\n				\n			\n			\n				\n			\n			\n				\n			\n			\n				\n			\n		\n\n 
URL:https://techpolicy.org.il/event/us-privacy-legislation-for-practitioners-participated-by-leading-us-cpos/
LOCATION:Amit\, Pollak\, Matalon & Co\, Tel Aviv\, Israel
ATTACH;FMTTYPE=image/jpeg:https://techpolicy.org.il/wp-content/uploads/2022/06/open-seminar.jpg
END:VEVENT
BEGIN:VEVENT
DTSTART;TZID=UTC:20220726T080000
DTEND;TZID=UTC:20220726T110000
DTSTAMP:20260423T000017
CREATED:20220718T124817Z
LAST-MODIFIED:20220718T130721Z
UID:4748-1658822400-1658833200@techpolicy.org.il
SUMMARY:ROUNDTABLE WITH LIMOR SHMERLING MAGAZANIK HOSTED BY GOODWIN
DESCRIPTION:Israel Regulation Update with Israel Tech Policy Institute Managing Director\, Limor Shmerling Magazanik \n\nLimor Shmerling Magazanik will present on the Israeli start-up ecosystem and tech regulation and policies in Israel. \n\n\n\nThe talk will include a review of policy approaches to tech innovation and examples of legislation tools that aim to foster innovation in Israel as well as protect human rights and public interest and compare them to other national approaches. Specific focus will be given to initiatives in the health tech/life sciences space and the financial/fintech sector. \n\n\n\nWhen:   Tuesday\, July 26\, 8AM Agenda: Israel Regulation Update and breakfast followed by Q&A Session Address: Goodwin Procter\, UK\, 100 Cheapside\, London EC2V 6DY \nFor registration click here.
URL:https://techpolicy.org.il/event/roundtable-with-limor-shmerling-magazanik-hosted-by-goodwin/
LOCATION:Goodwin Procter\, London\, United Kingdom
ATTACH;FMTTYPE=image/png:https://techpolicy.org.il/wp-content/uploads/2022/07/graphics3.png
END:VEVENT
END:VCALENDAR