BEGIN:VCALENDAR
VERSION:2.0
PRODID:-//המכון הישראלי למדיניות טכנולוגיה - ECPv5.2.1.1//NONSGML v1.0//EN
CALSCALE:GREGORIAN
METHOD:PUBLISH
X-WR-CALNAME:המכון הישראלי למדיניות טכנולוגיה
X-ORIGINAL-URL:https://techpolicy.org.il
X-WR-CALDESC:Events for המכון הישראלי למדיניות טכנולוגיה
BEGIN:VTIMEZONE
TZID:UTC
BEGIN:STANDARD
TZOFFSETFROM:+0000
TZOFFSETTO:+0000
TZNAME:UTC
DTSTART:20220101T000000
END:STANDARD
END:VTIMEZONE
BEGIN:VEVENT
DTSTART;TZID=UTC:20220426T090000
DTEND;TZID=UTC:20220426T120000
DTSTAMP:20260423T180125
CREATED:20220422T143912Z
LAST-MODIFIED:20220512T061205Z
UID:4479-1650963600-1650974400@techpolicy.org.il
SUMMARY:In-Person Meetup on:  'Navigating Rapidly Changing Global AdTech Regulation'
DESCRIPTION:A Joint Israel Tech Policy Institute and Naschitz\, Brandes\, Amir & Co. In-Person Meetup on: \n‘Navigating Rapidly Changing Global AdTech Regulation’ \nDate and Time: April 26\, 9:00am -12:00pm \, IST at 5 Tuval St. TLV \nThe event  included a stellar line-up of expert speakers and began with an opening by Ziv Elul\, the CEO of Periapt and a Leading adtech entrepreneur\, who provided an overviewof the notable developments in the adtech market\, discussed the current trends and predictions\, and shared his own experience “from the trenches.” Followed by a keynote lecture by Jules Polonetsky\, the CEO of the Future of Privacy Forum\, titled: \n‘Calls to Ban surveillance Advertising Are Advancing\, Will It Happen? Navigating the Future of Digital Marketing As Regulators and Platforms Reshape Rules for the Future of Ads’. \nLastly\, Limor Shmerling Magazanik\, Managing Director of the Israel Tech Policy Institute and Dalit Ben-Israel\, Naschitz\, Brandes\, Amir & Co‘s Chair of IT and Data Protection conducted a Q&A on related business and privacy regulations in the field.  \nPictures from the event: 
URL:https://techpolicy.org.il/event/in-person-meetup-on-navigating-rapidly-changing-global-adtech-regulation/
ATTACH;FMTTYPE=image/png:https://techpolicy.org.il/wp-content/uploads/2022/04/meetup-invite-16-9-.png
END:VEVENT
BEGIN:VEVENT
DTSTART;TZID=UTC:20220509T090000
DTEND;TZID=UTC:20220509T120000
DTSTAMP:20260423T180125
CREATED:20220512T073252Z
LAST-MODIFIED:20220515T113559Z
UID:4550-1652086800-1652097600@techpolicy.org.il
SUMMARY:יום עיון - תחרות ניירות עמדה בתחום המשפט והטכנולוגיה
DESCRIPTION:משרד המשפטים והמכון הישראלי למדיניות טכנולוגיה\, קיימו ב 9 במאי יום עיון\, במסגרת תחרות ניירות המדיניות שהשיקו השנה בתחום המשפט והטכנולוגיה\, לסטודנטים מן הפקולטאות למשפטים בארץ. \nביום העיון נשאה ברכה המשנה ליועמ״ש [אזרחי] עו״ד כרמית יוליס ונשאה דברים עו”ד חלי גיא אלדר כנציגת מחלקת ניהול ותפקידים מיוחדים\, ייעוץ וחקיקה במשרד המשפטים. \nיום העיון כלל הרצאות מפי עו״ד עמית אשכנזי – עד לאחרונה\, היועץ המשפטי של מערך הסייבר הלאומי וכיום עמית במרכז למשפט וטכנולוגיה שבאוניברסיטת חיפה – על מחשבות על משפט\, טכנולוגיה ומדיניות; עו״ד יערה למברגר קינר – מוקד ידע (רגולציה) במחלקה הכלכלית בייעוץ וחקיקה שבמשרד המשפטים\, על כתיבת חוות-דעת משפטית ומסמכי מדיניות\, תוך התאמת המשפט לעולם המשתנה; ומפי ד״ר סיון תמיר\, מן המכון הישראלי למדיניות טכנולוגיה\, על אתיקה של בינה מלאכותית. \nהתחרות מבקשת לעודד מחקר ופיתוח מדיניות בסוגיות המצויות במפגש של משפט וטכנולוגיה ומעמידה במרכזה את שאלת המחקר – \n“האם יש להכיר בבינה מלאכותית כ׳ממציאה׳ לעניין דיני הפטנטים\, או כ׳בעלת פטנט׳?”. \nהתחרות תתקיים בינואר 2023 בפני קהל משתתפי התחרות ומוזמנים נוספים\, במסגרתו יציגו חברי הקבוצות את עיקרי חווה”ד שלהן ואת הצעת המדיניות המגולמת בה. \nפרס בשווי של 5000 ₪ יוענק לקבוצה הזוכה\, על-ידי משרד המשפטים ופרס בדמות תרגום מקצועי של חווה”ד לאנגלית ופרסומו בשתי השפות בערוצי משרד המשפטים והמכון\, יוענק על ידי המכון הישראלי למדיניות וטכנולוגיה. 
URL:https://techpolicy.org.il/event/%d7%99%d7%95%d7%9d-%d7%a2%d7%99%d7%95%d7%9f-%d7%aa%d7%97%d7%a8%d7%95%d7%aa-%d7%a0%d7%99%d7%99%d7%a8%d7%95%d7%aa-%d7%a2%d7%9e%d7%93%d7%94-%d7%91%d7%aa%d7%97%d7%95%d7%9d-%d7%94%d7%9e%d7%a9%d7%a4%d7%98/
LOCATION:ישראל יפה בפארק
ATTACH;FMTTYPE=image/png:https://techpolicy.org.il/wp-content/uploads/2022/05/גרפיקה-לשקף-פתיחה.png
END:VEVENT
BEGIN:VEVENT
DTSTART;TZID=UTC:20220509T160000
DTEND;TZID=UTC:20220509T190000
DTSTAMP:20260423T180125
CREATED:20220516T094958Z
LAST-MODIFIED:20220516T095730Z
UID:4584-1652112000-1652122800@techpolicy.org.il
SUMMARY:OECD marks Israel's 74 Independence
DESCRIPTION:OECD marks Israel’s 74 Independence Day. \nIsraeli delegation honoured by our friends at the #OECD hosted a special event with the permanent delegation of Israel to the OECD along with Secretary-General Mathias Cormann\, Deputy Secretary-General Ulrik Knudsen\, Start-Up Nation Policy Institute (SNPI) and Ambassador Haim Assaraf to celebrate “Yom Ha’atzmaut” focusing on Israeli Innovation and How Israel became the “Start-Up Nation”. \nIsrael Tech Policy Institute‘s Managing Director Limor Shmerling Magazanik delivered a special intervention in the panel discussion on:  ‘Innovation as a Change Maker for Overcoming Global Challenges’. \n‘Israel’s government “secret sauce” to a thriving high-tech eco system: Focused investment in R&D verticals that offer solutions to local and global challenges; Flexibility in adjusting the policy to changing reality; multistakeholder engagement and investment in infrastructures\, Human Capital and academic research for the eco-system in focus; supporting regulation + risk mitigating regulation and… Risk Appetite’ \nPhoto credit – Alain Azria & Andrew Wheeler
URL:https://techpolicy.org.il/event/israels-independence-day-hosty-by-oecd/
LOCATION:OECD
ATTACH;FMTTYPE=image/jpeg:https://techpolicy.org.il/wp-content/uploads/2022/05/ocde_09_05_2022-490-scaled.jpg
END:VEVENT
END:VCALENDAR