BEGIN:VCALENDAR
VERSION:2.0
PRODID:-//המכון הישראלי למדיניות טכנולוגיה - ECPv5.2.1.1//NONSGML v1.0//EN
CALSCALE:GREGORIAN
METHOD:PUBLISH
X-WR-CALNAME:המכון הישראלי למדיניות טכנולוגיה
X-ORIGINAL-URL:https://techpolicy.org.il
X-WR-CALDESC:Events for המכון הישראלי למדיניות טכנולוגיה
BEGIN:VTIMEZONE
TZID:Europe/Moscow
BEGIN:STANDARD
TZOFFSETFROM:+0300
TZOFFSETTO:+0300
TZNAME:MSK
DTSTART:20210101T000000
END:STANDARD
END:VTIMEZONE
BEGIN:VEVENT
DTSTART;TZID=Europe/Moscow:20210519T160000
DTEND;TZID=Europe/Moscow:20210519T173000
DTSTAMP:20260424T084628
CREATED:20210419T141453Z
LAST-MODIFIED:20210510T102347Z
UID:2940-1621440000-1621445400@techpolicy.org.il
SUMMARY:Public Webinar: The EU Data Strategy and the Draft Data Governance Act
DESCRIPTION:Israel Tech Policy Institute & Tel Aviv University\, The Stewart & Judy Colton Law and Innovation Program invite you to participate in our latest online webinar\, The EU Data Strategy and the Draft Data Governance Act. \nThe draft Data Governance Act is one of the proposed measures for implementing the EC’s 2020 European Strategy for Data\, which aims at giving the EU a competitive advantage by enabling it to capitalize on its vast quantity of data. The Data Governance Act will establish a framework for providing access to government data\, regulating data intermediaries that provide data sharing services\, and data altruism. \nThe Webinar will discuss the European Union’s Strategy for Data and the draft Data Governance Act. \nModerators: \nProf. Assaf Hamdani\, Law Faculty\, Tel Aviv University \nLimor Shmerling Magazanik\, Managing Director\, Israel Tech Policy Institute \n16:00-16:10 Opening Remarks \n16:10-16:25 The EU vision for the Data Governance Act \nMalte Beyer-Katzenberger\, policy developer and team leader data policy & innovation\, European Commission\, DG CONNECT \n16.25-16.40 Setting the Stage: EU Data – Recent policy initiatives \nMs. Henriette Tielemans\, Senior Counsel\, Covington & Burling LLP \n16:40-17:10 Discussants: \nDr. Thomas Hardjono\, MIT Connection Science & Engineering \nHelena Koning\, Assistant General Counsel\, Global Privacy Compliance Assurance & Europe Data Protection Officer\, Mastercard \nRachel Ran\, Data Policy Manager\, Government ICT Authority \n17:10-17:30 Open Discussion \nAttendance is FREE but registration here is required. For any further details and questions\, please don’t hesitate to contact us at info@techpolicy.org.il. 
URL:https://techpolicy.org.il/event/public-webinar-the-eu-data-strategy-and-the-draft-data-governance-act/
LOCATION:In Person Meetup
ATTACH;FMTTYPE=image/png:https://techpolicy.org.il/wp-content/uploads/2021/04/Data-EU-strat-new-pic.png
END:VEVENT
END:VCALENDAR