BEGIN:VCALENDAR
VERSION:2.0
PRODID:-//המכון הישראלי למדיניות טכנולוגיה - ECPv5.2.1.1//NONSGML v1.0//EN
CALSCALE:GREGORIAN
METHOD:PUBLISH
X-WR-CALNAME:המכון הישראלי למדיניות טכנולוגיה
X-ORIGINAL-URL:https://techpolicy.org.il
X-WR-CALDESC:Events for המכון הישראלי למדיניות טכנולוגיה
BEGIN:VTIMEZONE
TZID:UTC
BEGIN:STANDARD
TZOFFSETFROM:+0000
TZOFFSETTO:+0000
TZNAME:UTC
DTSTART:20190101T000000
END:STANDARD
END:VTIMEZONE
BEGIN:VEVENT
DTSTART;TZID=UTC:20190124T093000
DTEND;TZID=UTC:20190124T133000
DTSTAMP:20260425T222628
CREATED:20190124T173206Z
LAST-MODIFIED:20201016T173641Z
UID:1879-1548322200-1548336600@techpolicy.org.il
SUMMARY:Privacy Protection Laws: Looking Toward the Future
DESCRIPTION:The Israel Tech Policy Institute and the Israel Bar Association invite you to a seminar in Tel Aviv on legal issues concerning the core of the digital economy and society in the age of the Internet. In one of the sessions\, Future of Privacy Forum CEO Jules Polonetsky will be leading a discussion on how Europe’s General Data Protection Regulation (GDPR) and legislative efforts in the United States are affecting the global privacy landscape. In the final session\, ITPI Director Limor Shmerling and other panelists will discuss recent attempts to update Israel’s 1981 privacy protection law. \nRegistration materials and a full agenda for the day can be found below. We hope to see you there! \nWebsite: https://www.eventbrite.com/e/privacy-protection-law-in-israel-a-look-to-the-future-tickets-53831960844 \nOrganizer: \nIsrael Tech Policy Institute
URL:https://techpolicy.org.il/event/privacy-protection-laws-looking-toward-the-future/
LOCATION:Israel Bar Association\, 10 Daniel Frisch Street\, Tel Aviv\, Israel
ATTACH;FMTTYPE=image/png:https://techpolicy.org.il/wp-content/uploads/2020/10/JanEvent2-1.png
END:VEVENT
BEGIN:VEVENT
DTSTART;TZID=UTC:20190128T180000
DTEND;TZID=UTC:20190128T200000
DTSTAMP:20260425T222628
CREATED:20190128T174555Z
LAST-MODIFIED:20201016T175737Z
UID:1889-1548698400-1548705600@techpolicy.org.il
SUMMARY:2019 Privacy Predictions in the Post GDPR Era
DESCRIPTION:To celebrate CyberWeek\, Israel Tech Policy Institute Managing Director Limor Shmerling Magazanik will join an expert panel on the future of data protection and privacy. The panel will be followed by a cocktail hour at the Social Club\, then dinner in the heart of Tel Aviv’s vibrant Rothchild district. The event is open to the public! \nAgenda\n\n18:00\nGathering \n\n18:30\nExpert Panel discussing the 2019 predictions of data\, privacy\, policy and enforcement\, in the post GDPR era \n\n19:15\nMingling & Cocktails at the “Social Club” restaurant \n\nSpeakers\nLimor Shmerling Magazanik\nManaging Director at Israel Tech Policy Institute; Forbes׳ World’s Top 50 Women in Tech 2018 \nBart Willemsen\nSenior Director Analyst at Gartner\, Privacy Leader \nPatrick Heim\nOperating Partner and CISO at Clearsky. Former Chief Trust Officer at Salesforce and Head of Trust & Security at Dropbox \nRakefet Jackoby Galazan\nSr. Product Manager at Gigya/SAP \nNimrod Vax – Moderating\nChief Product Officer\, Co-Founder at BigID
URL:https://techpolicy.org.il/event/2019-privacy-predictions-in-the-post-gdpr-era/
LOCATION:Mindspace\, Rothschild Blvd 45\, Tel Aviv - Yaffo\, Israel
ATTACH;FMTTYPE=image/png:https://techpolicy.org.il/wp-content/uploads/2020/10/Screenshot_6.png
END:VEVENT
END:VCALENDAR