BEGIN:VCALENDAR
VERSION:2.0
PRODID:-//המכון הישראלי למדיניות טכנולוגיה - ECPv5.2.1.1//NONSGML v1.0//EN
CALSCALE:GREGORIAN
METHOD:PUBLISH
X-WR-CALNAME:המכון הישראלי למדיניות טכנולוגיה
X-ORIGINAL-URL:https://techpolicy.org.il
X-WR-CALDESC:Events for המכון הישראלי למדיניות טכנולוגיה
BEGIN:VTIMEZONE
TZID:UTC
BEGIN:STANDARD
TZOFFSETFROM:+0000
TZOFFSETTO:+0000
TZNAME:UTC
DTSTART:20180101T000000
END:STANDARD
END:VTIMEZONE
BEGIN:VEVENT
DTSTART;TZID=UTC:20181125T163000
DTEND;TZID=UTC:20181125T183000
DTSTAMP:20260426T012812
CREATED:20181125T172728Z
LAST-MODIFIED:20201016T173044Z
UID:1871-1543163400-1543170600@techpolicy.org.il
SUMMARY:The Challenges of Cyber Security Legislation
DESCRIPTION:On the New Israeli Cybersecurity Law Draft\nThe Israel Tech Policy Institute in collaboration with the Israel National Cyber Directorate\, the Hebrew University Cyber Law Center and the Israel Democracy Institute – will hold an international workshop on legal frameworks to promote cyber security. \nThe workshop will include government representatives from Israel\, US\, EU\, from private practice and academy. \nView agenda PDF \n 
URL:https://techpolicy.org.il/event/the-challenges-of-cyber-security-legislation/
LOCATION:The Israel Democracy Institute\, 4 Pinsker Street\, Jerusalem\, Israel
END:VEVENT
END:VCALENDAR